BEGIN:VCALENDAR
VERSION:2.0
PRODID:-//The Groundswell Collective - ECPv6.2.8.1//NONSGML v1.0//EN
CALSCALE:GREGORIAN
METHOD:PUBLISH
X-WR-CALNAME:The Groundswell Collective
X-ORIGINAL-URL:https://thegroundswell.org.au
X-WR-CALDESC:Events for The Groundswell Collective
REFRESH-INTERVAL;VALUE=DURATION:PT1H
X-Robots-Tag:noindex
X-PUBLISHED-TTL:PT1H
BEGIN:VTIMEZONE
TZID:Australia/Sydney
BEGIN:STANDARD
TZOFFSETFROM:+1100
TZOFFSETTO:+1000
TZNAME:AEST
DTSTART:20260404T160000
END:STANDARD
BEGIN:DAYLIGHT
TZOFFSETFROM:+1000
TZOFFSETTO:+1100
TZNAME:AEDT
DTSTART:20261003T160000
END:DAYLIGHT
END:VTIMEZONE
BEGIN:VEVENT
DTSTART;TZID=Australia/Sydney:20260429T093000
DTEND;TZID=Australia/Sydney:20260429T113000
DTSTAMP:20260422T215854
CREATED:20260324T041536Z
LAST-MODIFIED:20260324T041631Z
UID:6805-1777455000-1777462200@thegroundswell.org.au
SUMMARY:All About Herbs - Make A Mini Wicking System
DESCRIPTION:Join The Groundswell Collective for a hands-on Seed Library Workshop and Packing Session at Edgeworth Memorial Neighbourhood Centre as part of the Seeds of Resilience monthly program. \nAll About Herbs is a practical\, beginner-friendly session focused on growing healthy\, productive herbs at home\, with a special spotlight on Thai basil and simple mini wicking systems that help herbs thrive with less water and maintenance. \nParticipants will learn how wicking systems work and how they can be easily adapted for small spaces\, veggie patches\, balconies and kitchen gardens. \nFeatured focus: Mini Wicking Systems for Herbs \nThis session will explore: \n\nThe basics of growing herbs successfully at home\nHow mini wicking systems work and why they’re ideal for herbs\nA step-by-step demonstration of a mini wicking system for Thai basil\nTips for watering\, harvesting and keeping herbs productive\nSimple herb packaging techniques for sharing and storage\n\nAlongside the workshop\, participants will help pack and label herbs and seeds for the Lake Mac Seed Library\, supporting biodiversity\, local food resilience and community sharing. \n☕ A relaxed\, social morning — conversation and curiosity encouraged. \nWith thanks to Australia Post for supporting community wellbeing and seed sharing initiatives. \n\nWhat to Expect\n\nSeed and herb packing and labelling for the Lake Mac Seed Library\nLive demonstration and make your own mini wicking system for Thai basil\nPractical tips for growing and harvesting herbs\nLearn how seed libraries work and how to get involved\nMeet local gardeners and community members\n\n\nWho Should Attend\n\nHome gardeners and herb lovers\nBeginner and small-space growers\nFamilies and community members\nAnyone interested in growing food at home\n\nNo experience required — just come along and join in 🌿
URL:https://thegroundswell.org.au/event/all-about-herbs-make-a-mini-wicking-system/
LOCATION:Edgeworth Memorial Neighbourhood Centre\, 739 Main Road\, Edgeworth\, NSW\, 2285\, Australia
ATTACH;FMTTYPE=image/png:/wp-content/uploads/2026/03/Subtitle.png
ORGANIZER;CN="The Groundswell Collective":MAILTO:info@thegroundswell.org.au
END:VEVENT
END:VCALENDAR